BEGIN:VCALENDAR
VERSION:2.0
PRODID:-//Tennisclub Oberstenfeld - ECPv6.2.0.1//NONSGML v1.0//EN
CALSCALE:GREGORIAN
METHOD:PUBLISH
X-ORIGINAL-URL:https://tc-oberstenfeld.de
X-WR-CALDESC:Veranstaltungen für Tennisclub Oberstenfeld
REFRESH-INTERVAL;VALUE=DURATION:PT1H
X-Robots-Tag:noindex
X-PUBLISHED-TTL:PT1H
BEGIN:VTIMEZONE
TZID:UTC
BEGIN:STANDARD
TZOFFSETFROM:+0000
TZOFFSETTO:+0000
TZNAME:UTC
DTSTART:20230101T000000
END:STANDARD
END:VTIMEZONE
BEGIN:VEVENT
DTSTART;TZID=UTC:20230916T150000
DTEND;TZID=UTC:20230916T150000
DTSTAMP:20260422T043315
CREATED:20230727T082512Z
LAST-MODIFIED:20230829T073422Z
UID:2405-1694876400-1694876400@tc-oberstenfeld.de
SUMMARY:Sommerfest 16.09.23
DESCRIPTION:
URL:https://tc-oberstenfeld.de/termin/sommerfest-16-09-23/
LOCATION:Tennisanlage des TC Oberstenfelds\, Robert-Bosch-Straße 9\, Oberstenfeld\, Baden-Württemberg\, 71720\, Deutschland
ATTACH;FMTTYPE=image/jpeg:https://tc-oberstenfeld.de/wp-content/uploads/2023/07/making-toast-at-the-summer-festival-2021-08-27-09-33-48-utc.jpg
ORGANIZER;CN="TC%20Oberstenfeld":MAILTO:info@tc-oberstenfeld.de
END:VEVENT
END:VCALENDAR