BEGIN:VCALENDAR
VERSION:2.0
PRODID:-//Tennisclub Oberstenfeld - ECPv6.2.0.1//NONSGML v1.0//EN
CALSCALE:GREGORIAN
METHOD:PUBLISH
X-ORIGINAL-URL:https://tc-oberstenfeld.de
X-WR-CALDESC:Veranstaltungen für Tennisclub Oberstenfeld
REFRESH-INTERVAL;VALUE=DURATION:PT1H
X-Robots-Tag:noindex
X-PUBLISHED-TTL:PT1H
BEGIN:VTIMEZONE
TZID:UTC
BEGIN:STANDARD
TZOFFSETFROM:+0000
TZOFFSETTO:+0000
TZNAME:UTC
DTSTART:20240101T000000
END:STANDARD
END:VTIMEZONE
BEGIN:VEVENT
DTSTART;TZID=UTC:20240721T170000
DTEND;TZID=UTC:20240721T233000
DTSTAMP:20260421T114255
CREATED:20240710T193733Z
LAST-MODIFIED:20240710T194151Z
UID:3266-1721581200-1721604600@tc-oberstenfeld.de
SUMMARY:TCO 1. Saisonabschluss Party am 21. Juli 2024
DESCRIPTION:An alle Mitglieder\, Mannschaftsführer und gegnerische Mannschaften\,\nder Tennisclub Oberstenfeld möchte dieses Jahr „das erste Mal“ eine Saisonabschluss Party mit Euch allen feiern. \nSave the date 21. Juli 2024 ab 17 Uhr \nEs sind alle Mitglieder\, Mannschaftsführer und gegnerische Mannschaften ZUM FREIBIER 🍺 sehr herzlich auf unserer Anlage eingeladen. \nFür Essen ist natürlich aich gesorgt – es wird gegrillt! Leckere Würste und Steakbrötchen gibt es vor Ort zu kaufen. \n  \nWir freuen uns riesig über diese Party und hoffen\, dass viele Personen daran teilnehmen. \n  \nUnser Mitglied Jens Stottmeister stiftet das Freibier 🍺 und hat dieses Event ins Leben gerufen! Danke an Jens für die Spende und die klasse Idee! \n  \nVorstandschaft TCO
URL:https://tc-oberstenfeld.de/termin/tco-1-saisonabschluss-party-am-21-juli-2024/
LOCATION:Tennisanlage des TC Oberstenfelds\, Robert-Bosch-Straße 9\, Oberstenfeld\, Baden-Württemberg\, 71720\, Deutschland
ORGANIZER;CN="TC%20Oberstenfeld":MAILTO:info@tc-oberstenfeld.de
END:VEVENT
END:VCALENDAR